BEGIN:VCALENDAR
VERSION:2.0
PRODID:-//AleeanPeace Group Holdings Limited - ECPv6.15.12.2//NONSGML v1.0//EN
CALSCALE:GREGORIAN
METHOD:PUBLISH
X-ORIGINAL-URL:https://aleeanpeace.com/en/
X-WR-CALDESC:Events for AleeanPeace Group Holdings Limited
REFRESH-INTERVAL;VALUE=DURATION:PT1H
X-Robots-Tag:noindex
X-PUBLISHED-TTL:PT1H
BEGIN:VTIMEZONE
TZID:Asia/Hong_Kong
BEGIN:STANDARD
TZOFFSETFROM:+0800
TZOFFSETTO:+0800
TZNAME:HKT
DTSTART:20230101T000000
END:STANDARD
END:VTIMEZONE
BEGIN:VEVENT
DTSTART;TZID=Asia/Hong_Kong:20240302T143000
DTEND;TZID=Asia/Hong_Kong:20240302T160000
DTSTAMP:20260422T101323
CREATED:20240217T135635Z
LAST-MODIFIED:20240217T135635Z
UID:5502-1709389800-1709395200@aleeanpeace.com
SUMMARY:2024香港高才、優才續簽新政策
DESCRIPTION:香港人才政策專家為你重點講解 \n香港身份續簽重要須知 \n高才、優才續簽辦理條件
URL:https://aleeanpeace.com/en/event/2024%e9%a6%99%e6%b8%af%e9%ab%98%e6%89%8d%e3%80%81%e5%84%aa%e6%89%8d%e7%ba%8c%e7%b0%bd%e6%96%b0%e6%94%bf%e7%ad%96/
LOCATION:Online
END:VEVENT
END:VCALENDAR