BEGIN:VCALENDAR
VERSION:2.0
PRODID:-//AleeanPeace Group Holdings Limited - ECPv6.15.12.2//NONSGML v1.0//EN
CALSCALE:GREGORIAN
METHOD:PUBLISH
X-ORIGINAL-URL:https://aleeanpeace.com/zh-hans/
X-WR-CALDESC:AleeanPeace Group Holdings Limited的活动
REFRESH-INTERVAL;VALUE=DURATION:PT1H
X-Robots-Tag:noindex
X-PUBLISHED-TTL:PT1H
BEGIN:VTIMEZONE
TZID:Asia/Hong_Kong
BEGIN:STANDARD
TZOFFSETFROM:+0800
TZOFFSETTO:+0800
TZNAME:HKT
DTSTART:20230101T000000
END:STANDARD
END:VTIMEZONE
BEGIN:VEVENT
DTSTART;TZID=Asia/Hong_Kong:20240302T143000
DTEND;TZID=Asia/Hong_Kong:20240302T160000
DTSTAMP:20260421T222415
CREATED:20240217T135635Z
LAST-MODIFIED:20240217T140912Z
UID:5506-1709389800-1709395200@aleeanpeace.com
SUMMARY:2024香港高才、优才续签新政策
DESCRIPTION:香港人才政策专家为你重点讲解 \n香港身份续签重要须知 \n高才、优才续签办理条件
URL:https://aleeanpeace.com/zh-hans/event/2024%e9%a6%99%e6%b8%af%e9%ab%98%e6%89%8d%e3%80%81%e4%bc%98%e6%89%8d%e7%bb%ad%e7%ad%be%e6%96%b0%e6%94%bf%e7%ad%96/
LOCATION:Online
END:VEVENT
BEGIN:VEVENT
DTSTART;TZID=Asia/Hong_Kong:20240316T143000
DTEND;TZID=Asia/Hong_Kong:20240316T160000
DTSTAMP:20260421T222415
CREATED:20240208T131737Z
LAST-MODIFIED:20240229T024354Z
UID:5495-1710599400-1710604800@aleeanpeace.com
SUMMARY:自制长粮退休策划讲座「退优」定「退忧」？
DESCRIPTION:主题： \n\n你有否善用各种资源策划退休？\n「安老按揭」有几好？\n仔女要移民财产可以如何安排？\n\n内容： \n\n  保单及安老按揭让你月月有粮出\n  设立信托以完善资产传承\n  免除纷争妥善资产分配更无忧\n\n主讲嘉宾： \n利同安家族办公室行政总裁 – 李绍权博士 \n资深财务策划专家 – 樊志雄先生
URL:https://aleeanpeace.com/zh-hans/event/%e9%80%80%e4%bc%98%e5%ae%9a%e9%80%80%e5%bf%a7%ef%bc%9f%e8%87%aa%e5%88%b6%e9%80%80%e4%bc%91%e9%95%bf%e7%b2%ae%ef%bc%8c%e6%9c%88%e6%9c%88%e5%8f%91%e3%80%8c%e8%96%aa%e3%80%8d/
LOCATION:香港九龍尖沙咀科學館道9號新東海商業中心3樓307-310室\, 尖沙咀科學館道9號新東海商業中心3樓307-310室\, 九龍\, Hong Kong
END:VEVENT
END:VCALENDAR